BEGIN:VCALENDAR
VERSION:2.0
PRODID:-//CERN//INDICO//EN
BEGIN:VEVENT
SUMMARY:Furry Field Day
DTSTART:20260515T150000Z
DTEND:20260515T220000Z
DTSTAMP:20260421T111900Z
UID:indico-event-235@events.nyfurs.org
CONTACT:princerosegold97@gmail.com
DESCRIPTION:\nHello everyone! My friends and I wanted to try out organizin
 g a FurMeet in Nassau\, so we’re hosting Furry Field Day at Bethpage Sta
 te Park! This all-ages event is fur those who want to get out and sniff so
 me fresh spring air! Meet up with fellow furs and take part in a picnic wi
 th a boatload of lawn games and crafts!\nThis event will take place on Sun
 day May 17th\, from 11am - 5pm. Schedule will be posted on Timetable!\nMo
 re information herehttps://docs.google.com/document/d/1sgwvAqf7HQJti0BPyKM
 y1xT5wJV_-GPIPvSgigRoUKs/edit?tab=t.0#heading=h.7ahkgkf94qb9\n\nhttps://ev
 ents.nyfurs.org/event/235/
URL:https://events.nyfurs.org/event/235/
END:VEVENT
END:VCALENDAR
